BEGIN:VCALENDAR
VERSION:2.0
PRODID:-//ReBüVe - ECPv6.15.13//NONSGML v1.0//EN
CALSCALE:GREGORIAN
METHOD:PUBLISH
X-ORIGINAL-URL:https://www.rebuve.de
X-WR-CALDESC:Veranstaltungen für ReBüVe
REFRESH-INTERVAL;VALUE=DURATION:PT1H
X-Robots-Tag:noindex
X-PUBLISHED-TTL:PT1H
BEGIN:VTIMEZONE
TZID:Europe/Berlin
BEGIN:DAYLIGHT
TZOFFSETFROM:+0100
TZOFFSETTO:+0200
TZNAME:CEST
DTSTART:20220327T010000
END:DAYLIGHT
BEGIN:STANDARD
TZOFFSETFROM:+0200
TZOFFSETTO:+0100
TZNAME:CET
DTSTART:20221030T010000
END:STANDARD
BEGIN:DAYLIGHT
TZOFFSETFROM:+0100
TZOFFSETTO:+0200
TZNAME:CEST
DTSTART:20230326T010000
END:DAYLIGHT
BEGIN:STANDARD
TZOFFSETFROM:+0200
TZOFFSETTO:+0100
TZNAME:CET
DTSTART:20231029T010000
END:STANDARD
BEGIN:DAYLIGHT
TZOFFSETFROM:+0100
TZOFFSETTO:+0200
TZNAME:CEST
DTSTART:20240331T010000
END:DAYLIGHT
BEGIN:STANDARD
TZOFFSETFROM:+0200
TZOFFSETTO:+0100
TZNAME:CET
DTSTART:20241027T010000
END:STANDARD
END:VTIMEZONE
BEGIN:VEVENT
DTSTART;TZID=Europe/Berlin:20230806T110000
DTEND;TZID=Europe/Berlin:20230910T160000
DTSTAMP:20260424T002459
CREATED:20230910T195120Z
LAST-MODIFIED:20231116T144211Z
UID:489-1691319600-1694361600@www.rebuve.de
SUMMARY:Infostand Flohmarktstand
DESCRIPTION:
URL:https://www.rebuve.de/event/infostand-flohmarktstand/
LOCATION:Ortsmitte Reckenfeld\, Grevener Landstr. 1\, Greven Reckenfeld\, 48268\, Deutschland
CATEGORIES:öffentlich
END:VEVENT
BEGIN:VEVENT
DTSTART;TZID=Europe/Berlin:20230807T093000
DTEND;TZID=Europe/Berlin:20230910T140000
DTSTAMP:20260424T002459
CREATED:20230910T195053Z
LAST-MODIFIED:20231116T144228Z
UID:482-1691400600-1694354400@www.rebuve.de
SUMMARY:Umgestaltung Haus der Geschichte
DESCRIPTION:
URL:https://www.rebuve.de/event/umgestaltung-haus-der-geschichte-2/
LOCATION:Haus der Geschichte\, Lennestraße 17\, Greven\, 48268\, Deutschland
CATEGORIES:öffentlich
END:VEVENT
BEGIN:VEVENT
DTSTART;TZID=Europe/Berlin:20230821T093000
DTEND;TZID=Europe/Berlin:20230910T140000
DTSTAMP:20260424T002459
CREATED:20230910T195106Z
LAST-MODIFIED:20231116T144243Z
UID:485-1692610200-1694354400@www.rebuve.de
SUMMARY:Umgestaltung Haus der Geschichte
DESCRIPTION:
URL:https://www.rebuve.de/event/umgestaltung-haus-der-geschichte-3/
LOCATION:Haus der Geschichte\, Lennestraße 17\, Greven\, 48268\, Deutschland
CATEGORIES:öffentlich
END:VEVENT
END:VCALENDAR