BEGIN:VCALENDAR
VERSION:2.0
PRODID:-//ReBüVe - ECPv6.15.13//NONSGML v1.0//EN
CALSCALE:GREGORIAN
METHOD:PUBLISH
X-ORIGINAL-URL:https://www.rebuve.de
X-WR-CALDESC:Veranstaltungen für ReBüVe
REFRESH-INTERVAL;VALUE=DURATION:PT1H
X-Robots-Tag:noindex
X-PUBLISHED-TTL:PT1H
BEGIN:VTIMEZONE
TZID:Europe/Berlin
BEGIN:DAYLIGHT
TZOFFSETFROM:+0100
TZOFFSETTO:+0200
TZNAME:CEST
DTSTART:20220327T010000
END:DAYLIGHT
BEGIN:STANDARD
TZOFFSETFROM:+0200
TZOFFSETTO:+0100
TZNAME:CET
DTSTART:20221030T010000
END:STANDARD
BEGIN:DAYLIGHT
TZOFFSETFROM:+0100
TZOFFSETTO:+0200
TZNAME:CEST
DTSTART:20230326T010000
END:DAYLIGHT
BEGIN:STANDARD
TZOFFSETFROM:+0200
TZOFFSETTO:+0100
TZNAME:CET
DTSTART:20231029T010000
END:STANDARD
BEGIN:DAYLIGHT
TZOFFSETFROM:+0100
TZOFFSETTO:+0200
TZNAME:CEST
DTSTART:20240331T010000
END:DAYLIGHT
BEGIN:STANDARD
TZOFFSETFROM:+0200
TZOFFSETTO:+0100
TZNAME:CET
DTSTART:20241027T010000
END:STANDARD
END:VTIMEZONE
BEGIN:VEVENT
DTSTART;TZID=Europe/Berlin:20230930T120000
DTEND;TZID=Europe/Berlin:20230930T120000
DTSTAMP:20260423T225817
CREATED:20230910T195150Z
LAST-MODIFIED:20231116T144327Z
UID:499-1696075200-1696075200@www.rebuve.de
SUMMARY:Erntedankmarkt
DESCRIPTION:
URL:https://www.rebuve.de/event/erntedankmarkt-2/
LOCATION:Ortsmitte Reckenfeld\, Grevener Landstr. 1\, Greven Reckenfeld\, 48268\, Deutschland
CATEGORIES:öffentlich
END:VEVENT
END:VCALENDAR