BEGIN:VCALENDAR
VERSION:2.0
PRODID:-//ReBüVe - ECPv6.15.13//NONSGML v1.0//EN
CALSCALE:GREGORIAN
METHOD:PUBLISH
X-ORIGINAL-URL:https://www.rebuve.de
X-WR-CALDESC:Veranstaltungen für ReBüVe
REFRESH-INTERVAL;VALUE=DURATION:PT1H
X-Robots-Tag:noindex
X-PUBLISHED-TTL:PT1H
BEGIN:VTIMEZONE
TZID:Europe/Berlin
BEGIN:DAYLIGHT
TZOFFSETFROM:+0100
TZOFFSETTO:+0200
TZNAME:CEST
DTSTART:20220327T010000
END:DAYLIGHT
BEGIN:STANDARD
TZOFFSETFROM:+0200
TZOFFSETTO:+0100
TZNAME:CET
DTSTART:20221030T010000
END:STANDARD
BEGIN:DAYLIGHT
TZOFFSETFROM:+0100
TZOFFSETTO:+0200
TZNAME:CEST
DTSTART:20230326T010000
END:DAYLIGHT
BEGIN:STANDARD
TZOFFSETFROM:+0200
TZOFFSETTO:+0100
TZNAME:CET
DTSTART:20231029T010000
END:STANDARD
BEGIN:DAYLIGHT
TZOFFSETFROM:+0100
TZOFFSETTO:+0200
TZNAME:CEST
DTSTART:20240331T010000
END:DAYLIGHT
BEGIN:STANDARD
TZOFFSETFROM:+0200
TZOFFSETTO:+0100
TZNAME:CET
DTSTART:20241027T010000
END:STANDARD
END:VTIMEZONE
BEGIN:VEVENT
DTSTART;TZID=Europe/Berlin:20231116T183000
DTEND;TZID=Europe/Berlin:20231116T193000
DTSTAMP:20260423T200147
CREATED:20230910T195354Z
LAST-MODIFIED:20231116T144446Z
UID:507-1700159400-1700163000@www.rebuve.de
SUMMARY:Vereinssitzung
DESCRIPTION:
URL:https://www.rebuve.de/event/vereinssitzung-7/
LOCATION:Restaurant Deutsches Haus\, Grevener Landstr. 13\, Greven Reckenfeld\, 48268\, Deutschland
CATEGORIES:öffentlich
END:VEVENT
BEGIN:VEVENT
DTSTART;TZID=Europe/Berlin:20231121T170000
DTEND;TZID=Europe/Berlin:20231121T190000
DTSTAMP:20260423T200147
CREATED:20231116T141837Z
LAST-MODIFIED:20231117T101823Z
UID:844-1700586000-1700593200@www.rebuve.de
SUMMARY:Bezirksausschuss für die Ortschaft Reckenfeld
DESCRIPTION:
URL:https://www.rebuve.de/event/bezare-2/
LOCATION:Restaurant Deutsches Haus\, Grevener Landstr. 13\, Greven Reckenfeld\, 48268\, Deutschland
CATEGORIES:öffentlich
END:VEVENT
BEGIN:VEVENT
DTSTART;TZID=Europe/Berlin:20231122T180000
DTEND;TZID=Europe/Berlin:20231122T220000
DTSTAMP:20260423T200147
CREATED:20231116T140118Z
LAST-MODIFIED:20231116T141411Z
UID:830-1700676000-1700690400@www.rebuve.de
SUMMARY:Kegeln der Boulespielerinnen und -spieler
DESCRIPTION:
URL:https://www.rebuve.de/event/boulespielen/
LOCATION:Landhaus Rickermann\, Bahnhofstr. 72\, Greven\, 48268\, Deutschland
CATEGORIES:öffentlich
END:VEVENT
BEGIN:VEVENT
DTSTART;TZID=Europe/Berlin:20231129T150000
DTEND;TZID=Europe/Berlin:20231129T170000
DTSTAMP:20260423T200147
CREATED:20230910T195350Z
LAST-MODIFIED:20231213T164955Z
UID:503-1701270000-1701277200@www.rebuve.de
SUMMARY:Boule spielen
DESCRIPTION:
URL:https://www.rebuve.de/event/boulespielen-26/
LOCATION:Spielplatz Kirchweg\, Kirchweg 8\, Greven\, 48268\, Deutschland
CATEGORIES:öffentlich
END:VEVENT
END:VCALENDAR