BEGIN:VCALENDAR
VERSION:2.0
PRODID:-//ReBüVe - ECPv6.15.13//NONSGML v1.0//EN
CALSCALE:GREGORIAN
METHOD:PUBLISH
X-ORIGINAL-URL:https://www.rebuve.de
X-WR-CALDESC:Veranstaltungen für ReBüVe
REFRESH-INTERVAL;VALUE=DURATION:PT1H
X-Robots-Tag:noindex
X-PUBLISHED-TTL:PT1H
BEGIN:VTIMEZONE
TZID:Europe/Berlin
BEGIN:DAYLIGHT
TZOFFSETFROM:+0100
TZOFFSETTO:+0200
TZNAME:CEST
DTSTART:20230326T010000
END:DAYLIGHT
BEGIN:STANDARD
TZOFFSETFROM:+0200
TZOFFSETTO:+0100
TZNAME:CET
DTSTART:20231029T010000
END:STANDARD
BEGIN:DAYLIGHT
TZOFFSETFROM:+0100
TZOFFSETTO:+0200
TZNAME:CEST
DTSTART:20240331T010000
END:DAYLIGHT
BEGIN:STANDARD
TZOFFSETFROM:+0200
TZOFFSETTO:+0100
TZNAME:CET
DTSTART:20241027T010000
END:STANDARD
BEGIN:DAYLIGHT
TZOFFSETFROM:+0100
TZOFFSETTO:+0200
TZNAME:CEST
DTSTART:20250330T010000
END:DAYLIGHT
BEGIN:STANDARD
TZOFFSETFROM:+0200
TZOFFSETTO:+0100
TZNAME:CET
DTSTART:20251026T010000
END:STANDARD
END:VTIMEZONE
BEGIN:VEVENT
DTSTART;TZID=Europe/Berlin:20240103T150000
DTEND;TZID=Europe/Berlin:20240103T170000
DTSTAMP:20260423T165913
CREATED:20231213T165146Z
LAST-MODIFIED:20231213T165146Z
UID:1648-1704294000-1704301200@www.rebuve.de
SUMMARY:Boule spielen
DESCRIPTION:
URL:https://www.rebuve.de/event/boule-spielen-2/
LOCATION:Spielplatz Kirchweg\, Kirchweg 8\, Greven\, 48268\, Deutschland
END:VEVENT
BEGIN:VEVENT
DTSTART;TZID=Europe/Berlin:20240110T150000
DTEND;TZID=Europe/Berlin:20240110T170000
DTSTAMP:20260423T165913
CREATED:20231213T165220Z
LAST-MODIFIED:20231213T165220Z
UID:1650-1704898800-1704906000@www.rebuve.de
SUMMARY:Boule spielen
DESCRIPTION:
URL:https://www.rebuve.de/event/boule-spielen-3/
LOCATION:Spielplatz Kirchweg\, Kirchweg 8\, Greven\, 48268\, Deutschland
END:VEVENT
BEGIN:VEVENT
DTSTART;TZID=Europe/Berlin:20240111T193000
DTEND;TZID=Europe/Berlin:20240111T220000
DTSTAMP:20260423T165913
CREATED:20231213T144648Z
LAST-MODIFIED:20231213T144648Z
UID:1626-1705001400-1705010400@www.rebuve.de
SUMMARY:Kneipenquiz
DESCRIPTION:
URL:https://www.rebuve.de/event/kneipenquiz/
LOCATION:Restaurant Deutsches Haus\, Grevener Landstr. 13\, Greven Reckenfeld\, 48268\, Deutschland
END:VEVENT
BEGIN:VEVENT
DTSTART;TZID=Europe/Berlin:20240115T170000
DTEND;TZID=Europe/Berlin:20240115T200000
DTSTAMP:20260423T165913
CREATED:20231213T145037Z
LAST-MODIFIED:20240113T142118Z
UID:1628-1705338000-1705348800@www.rebuve.de
SUMMARY:Treffen mit dem Bürgermeister
DESCRIPTION:
URL:https://www.rebuve.de/event/treffen-mit-dem-buergermeister/
LOCATION:Katholisches Gemeindehaus\, Kirchweg 8\, Greven\, 48268\, Deutschland
CATEGORIES:Vereinsintern
END:VEVENT
BEGIN:VEVENT
DTSTART;TZID=Europe/Berlin:20240117T150000
DTEND;TZID=Europe/Berlin:20240117T170000
DTSTAMP:20260423T165913
CREATED:20231213T165254Z
LAST-MODIFIED:20231213T165254Z
UID:1652-1705503600-1705510800@www.rebuve.de
SUMMARY:Boule spielen
DESCRIPTION:
URL:https://www.rebuve.de/event/boule-spielen-4/
LOCATION:Spielplatz Kirchweg\, Kirchweg 8\, Greven\, 48268\, Deutschland
END:VEVENT
BEGIN:VEVENT
DTSTART;TZID=Europe/Berlin:20240118T183000
DTEND;TZID=Europe/Berlin:20240118T203000
DTSTAMP:20260423T165913
CREATED:20231116T145113Z
LAST-MODIFIED:20231116T145129Z
UID:927-1705602600-1705609800@www.rebuve.de
SUMMARY:Vereinssitzung
DESCRIPTION:
URL:https://www.rebuve.de/event/vererinssitzung/
LOCATION:Restaurant Deutsches Haus\, Grevener Landstr. 13\, Greven Reckenfeld\, 48268\, Deutschland
CATEGORIES:Vereinsintern
END:VEVENT
BEGIN:VEVENT
DTSTART;TZID=Europe/Berlin:20240124T150000
DTEND;TZID=Europe/Berlin:20240124T170000
DTSTAMP:20260423T165913
CREATED:20231213T165327Z
LAST-MODIFIED:20231213T165442Z
UID:1654-1706108400-1706115600@www.rebuve.de
SUMMARY:Boule spielen
DESCRIPTION:
URL:https://www.rebuve.de/event/boule-spielen-5/
LOCATION:Spielplatz Kirchweg\, Kirchweg 8\, Greven\, 48268\, Deutschland
END:VEVENT
BEGIN:VEVENT
DTSTART;TZID=Europe/Berlin:20240131T150000
DTEND;TZID=Europe/Berlin:20240131T170000
DTSTAMP:20260423T165913
CREATED:20231213T165520Z
LAST-MODIFIED:20231213T165520Z
UID:1656-1706713200-1706720400@www.rebuve.de
SUMMARY:Boule spielen
DESCRIPTION:
URL:https://www.rebuve.de/event/boule-spielen-6/
LOCATION:Spielplatz Kirchweg\, Kirchweg 8\, Greven\, 48268\, Deutschland
END:VEVENT
END:VCALENDAR