BEGIN:VCALENDAR
VERSION:2.0
PRODID:-//ReBüVe - ECPv6.15.13//NONSGML v1.0//EN
CALSCALE:GREGORIAN
METHOD:PUBLISH
X-WR-CALNAME:ReBüVe
X-ORIGINAL-URL:https://www.rebuve.de
X-WR-CALDESC:Veranstaltungen für ReBüVe
REFRESH-INTERVAL;VALUE=DURATION:PT1H
X-Robots-Tag:noindex
X-PUBLISHED-TTL:PT1H
BEGIN:VTIMEZONE
TZID:Europe/Berlin
BEGIN:DAYLIGHT
TZOFFSETFROM:+0100
TZOFFSETTO:+0200
TZNAME:CEST
DTSTART:20230326T010000
END:DAYLIGHT
BEGIN:STANDARD
TZOFFSETFROM:+0200
TZOFFSETTO:+0100
TZNAME:CET
DTSTART:20231029T010000
END:STANDARD
BEGIN:DAYLIGHT
TZOFFSETFROM:+0100
TZOFFSETTO:+0200
TZNAME:CEST
DTSTART:20240331T010000
END:DAYLIGHT
BEGIN:STANDARD
TZOFFSETFROM:+0200
TZOFFSETTO:+0100
TZNAME:CET
DTSTART:20241027T010000
END:STANDARD
BEGIN:DAYLIGHT
TZOFFSETFROM:+0100
TZOFFSETTO:+0200
TZNAME:CEST
DTSTART:20250330T010000
END:DAYLIGHT
BEGIN:STANDARD
TZOFFSETFROM:+0200
TZOFFSETTO:+0100
TZNAME:CET
DTSTART:20251026T010000
END:STANDARD
END:VTIMEZONE
BEGIN:VEVENT
DTSTART;TZID=Europe/Berlin:20240306T150000
DTEND;TZID=Europe/Berlin:20240306T170000
DTSTAMP:20260423T135058
CREATED:20231213T165928Z
LAST-MODIFIED:20231213T165928Z
UID:1666-1709737200-1709744400@www.rebuve.de
SUMMARY:Boule spielen
DESCRIPTION:
URL:https://www.rebuve.de/event/boule-spielen-11/
LOCATION:Spielplatz Kirchweg\, Kirchweg 8\, Greven\, 48268\, Deutschland
END:VEVENT
BEGIN:VEVENT
DTSTART;TZID=Europe/Berlin:20240313T150000
DTEND;TZID=Europe/Berlin:20240313T170000
DTSTAMP:20260423T135058
CREATED:20231213T170029Z
LAST-MODIFIED:20231213T170029Z
UID:1668-1710342000-1710349200@www.rebuve.de
SUMMARY:Boule spielen
DESCRIPTION:
URL:https://www.rebuve.de/event/boule-spielen-12/
LOCATION:Spielplatz Kirchweg\, Kirchweg 8\, Greven\, 48268\, Deutschland
END:VEVENT
BEGIN:VEVENT
DTSTART;TZID=Europe/Berlin:20240320T150000
DTEND;TZID=Europe/Berlin:20240320T170000
DTSTAMP:20260423T135058
CREATED:20231213T170112Z
LAST-MODIFIED:20231213T170112Z
UID:1670-1710946800-1710954000@www.rebuve.de
SUMMARY:Boule spielen
DESCRIPTION:
URL:https://www.rebuve.de/event/boule-spielen-13/
LOCATION:Spielplatz Kirchweg\, Kirchweg 8\, Greven\, 48268\, Deutschland
END:VEVENT
BEGIN:VEVENT
DTSTART;TZID=Europe/Berlin:20240321T183000
DTEND;TZID=Europe/Berlin:20240321T203000
DTSTAMP:20260423T135058
CREATED:20231116T145249Z
LAST-MODIFIED:20240221T165205Z
UID:932-1711045800-1711053000@www.rebuve.de
SUMMARY:Vereinssitzung
DESCRIPTION:
URL:https://www.rebuve.de/event/vereinssitzung-9/
LOCATION:Vereinsheim des Imkervereins\, Steinfurter Str. 7a\, Greven\, 48268
CATEGORIES:Vereinsintern
END:VEVENT
BEGIN:VEVENT
DTSTART;TZID=Europe/Berlin:20240327T150000
DTEND;TZID=Europe/Berlin:20240327T170000
DTSTAMP:20260423T135058
CREATED:20231213T170142Z
LAST-MODIFIED:20231213T170142Z
UID:1672-1711551600-1711558800@www.rebuve.de
SUMMARY:Boule spielen
DESCRIPTION:
URL:https://www.rebuve.de/event/boule-spielen-14/
LOCATION:Spielplatz Kirchweg\, Kirchweg 8\, Greven\, 48268\, Deutschland
END:VEVENT
END:VCALENDAR